BEGIN:VCALENDAR
VERSION:2.0
PRODID:-//Peepl Events Calendar//Events//
BEGIN:VEVENT
SUMMARY:RT-9 PAIDE RALLI 2024!
DTSTART;VALUE=DATE-TIME:20240427T060000Z
DTEND;VALUE=DATE-TIME:20240427T070000Z
DTSTAMP;VALUE=DATE-TIME:20240307T183732Z
UID:238780T240202987.events.Token
DESCRIPTION:Pane punaselt ja jämedalt märkmikusse kirja 27.04.2024\nAsi lihtne: \nMiks: Miks mitte!?\nKus: Paide külje all Sillaotsas. Afterparty Paides- Kreisi Trahter.\nMillal:  27.04.2024\nKui Palju: 169.- EUR/meeskond\, See sisaldab: Rada\, meditsiinilist julgestust\, sööki/jooki ja muud lõbu\nKes Võidab? Võidab see\, kes etteantud aja jooksul läbib kõige rohkem ringe. Eriauhinnad kiirematele\, stiilsematele ja nendele\, kes selle välja teenivad. Täpsem formaat selgub võistlejate jaoks kohapeal ja sõltub natuke ka osalejate arvust. Korraldaja jätab omale õiguse formaati vastavalt osalejate arvule korrigeerida.\nKus saab Registreerida? Meeskonna osalemisest anna teada koos meeskonnaliikmete nimedega harditamme@gmail.com\nTegemist on TEHNIKASPORDIGA\, iga tiim valmistab oma võistlusauto ette täpselt nii hästi nagu nad seda ise tahavad ja oskavad\, sealjuures tasuks arvestada eelmiste kordade kogemusega\, et masinate plekid seal sirgeks ei ole jäänud. Et asi tehnika poole pealt enam-vähem võrdseks/hoomatavaks jääks ja saaksime mõõtu võtta selles\, et kes ikka kõvem vend/õde või old on\, siis anname ette mõned mõõdetavad parameetrid: Masinateks kuni 3000cm3 mootoriga\, 2wd masinad. Ülevaatus ja kindlustus ei ole olulised. Oluline on\, et klaasid oleksid terved ja turvavarustus oleks korras\, sealhulgas autos olijatel kiiver peas. Uksed sulguksid ja püsiksid ees. Eelnevalt on autode disainimine ja modifitseerimine lubatud\, et viia visuaal ja tehnoseisund tasemele\, mis laseks päev otsa peal hoida. Osalema pääseb kuni 20  ekipaazi. Ekipaazi suurus on maksimaalselt 5 inimest. Moodustada võib oma klubi siseseid meeskondi kui ka klubide üleseid meeskondi. \nKõik on oodatud- võistlejad\, pealtvaatajad\, asjaarmastajad\, seikluseotsijad!\nVÕISTLUSPÄEVA PROGRAMM/FORMAAT: \n27. aprill 2024\n09:00 – Väravad avatud\n             10:30 – võistluste avamine\n             11:00 – Vabatreening\n             12 :00 – kvalifikatsioon\n             13 :30 – Kestvussõidu 3h start\n             16 :30 – FINISH\n             17 :00 – autasustamine\n19:00 – Söök/jook ja Afterparty!\nEt saaks ka afterpartyl peal hoida siis kaugemalt tulijatele organiseerime majutuse!\nRALLIRAJAL NÄEME\, RSK!
LOCATION:Sillaotsa\, Paide linn\, Järvamaa
PRIORITY:5
URL:https://9-ee.roundtable.world/en/light/activities/238780/NzQ2MjE2/MjcwRkVERjlFRTRDQTgzRjg1MTk2RkZBRTJCMjdFODg/
END:VEVENT
END:VCALENDAR
